Workbook

Sheet 단편 50
A1: 서울독립영화제 50주년 독립영화 베스트 100선(2024)
A3: * 1975년~1998년 상영작 대상
A4: ** 본 리스트는 상영년도 기준으로 무순위 나열하였습니다. | C4: 발표 : 2024.11.28
A5: 상영년도 | B5: 단편 리스트 | C5: 감독
A6: =VLOOKUP(B6,[1]단편!$A:$B, 2, 0) -> 1976 | B6: 색동 | C6: 한옥희
A7: 1976 | B7: 서울 7000 | C7: 김홍준
A8: =VLOOKUP(B8,[1]단편!$A:$B, 2, 0) -> 1981 | B8: 뫼비우스의 딸 | C8: 김의석
A9: =VLOOKUP(B9,[1]단편!$A:$B, 2, 0) -> 1984 | B9: 백일몽 | C9: 이정국
A10: =VLOOKUP(B10,[1]단편!$A:$B, 2, 0) -> 1992 | B10: 가변차선 | C10: 양윤호
A11: 1994 | B11: 비명도시 | C11: 김성수
A12: 1997 | B12: 과대망상 | C12: 박기형
A13: =VLOOKUP(B13,[1]단편!$A:$B, 2, 0) -> 1999 | B13: 고추 말리기 | C13: 장희선
A14: =VLOOKUP(B14,[1]단편!$A:$B, 2, 0) -> 1999 | B14: 광대버섯 | C14: 염정석
A15: =VLOOKUP(B15,[1]단편!$A:$B, 2, 0) -> 1999 | B15: 민들레 | C15: 최하동하, 이경순
A16: =VLOOKUP(B16,[1]단편!$A:$B, 2, 0) -> 1999 | B16: 소풍 | C16: 송일곤
A17: =VLOOKUP(B17,[1]단편!$A:$B, 2, 0) -> 1999 | B17: 현대인 | C17: 류승완
A18: =VLOOKUP(B18,[1]단편!$A:$B, 2, 0) -> 2000 | B18: 너무 많이 본 사나이 | C18: 손재곤
A19: =VLOOKUP(B19,[1]단편!$A:$B, 2, 0) -> 2000 | B19: 자급자족하는 비디오 | C19: 이정수
A20: 2000 | B20: 물안경 | C20: 이수연
A21: =VLOOKUP(B21,[1]단편!$A:$B, 2, 0) -> 2001 | B21: 굿 로맨스 | C21: 이송희일
A22: =VLOOKUP(B22,[1]단편!$A:$B, 2, 0) -> 2001 | B22: 샴, 하드 로맨스 | C22: 김정구
A23: =VLOOKUP(B23,[1]단편!$A:$B, 2, 0) -> 2002 | B23: 그의 진실이 전진한다 | C23: 신재인
A24: =VLOOKUP(B24,[1]단편!$A:$B, 2, 0) -> 2002 | B24: 안다고 말하지 마라 | C24: 송혜진
A25: 2002 | B25: 장애인 이동권 투쟁 보고서 – 버스를 타자! | C25: 박종필
A26: =VLOOKUP(B26,[1]단편!$A:$B, 2, 0) -> 2003 | B26: 나무들이 봤어 | C26: 노동석
A27: =VLOOKUP(B27,[1]단편!$A:$B, 2, 0) -> 2003 | B27: 빵과 우유 | C27: 원신연
A28: =VLOOKUP(B28,[1]단편!$A:$B, 2, 0) -> 2003 | B28: 지옥 | C28: 연상호
A29: =VLOOKUP(B29,[1]단편!$A:$B, 2, 0) -> 2004 | B29: 나와 인형놀이 | C29: 김경묵
A30: =VLOOKUP(B30,[1]단편!$A:$B, 2, 0) -> 2004 | B30: 잘돼가? 무엇이든 | C30: 이경미
A31: =VLOOKUP(B31,[1]단편!$A:$B, 2, 0) -> 2004 | B31: 폴라로이드 작동법 | C31: 김종관
A32: =VLOOKUP(B32,[1]단편!$A:$B, 2, 0) -> 2004 | B32: 히치하이킹 | C32: 최진성
A33: =VLOOKUP(B33,[1]단편!$A:$B, 2, 0) -> 2005 | B33: 가리베가스 | C33: 김선민
A34: =VLOOKUP(B34,[1]단편!$A:$B, 2, 0) -> 2007 | B34: 무림일검의 사생활 | C34: 장형윤
A35: =VLOOKUP(B35,[1]단편!$A:$B, 2, 0) -> 2007 | B35: 불을 지펴라 | C35: 이종필
A36: =VLOOKUP(B36,[1]단편!$A:$B, 2, 0) -> 2007 | B36: 소이연(所以然) | C36: 김진만
A37: =VLOOKUP(B37,[1]단편!$A:$B, 2, 0) -> 2008 | B37: 125 전승철 | C37: 박정범
... A40: =VLOOKUP(B40,[1]단편!$A:$B, 2, 0) -> 2009 | B40: 남매의 집 | C40: 조성희
A41: 2009 | B41: 거짓말 | C41: 임오정
A42: =VLOOKUP(B42,[1]단편!$A:$B, 2, 0) -> 2009 | B42: 먼지아이 | C42: 정유미
A43: =VLOOKUP(B43,[1]단편!$A:$B, 2, 0) -> 2010 | B43: 척추측만 | C43: 조현철
A44: 2011 | B44: 모래 | C44: 강유가람
A45: =VLOOKUP(B45,[1]단편!$A:$B, 2, 0) -> 2011 | B45: 애드벌룬 | C45: 이우정
A46: =VLOOKUP(B46,[1]단편!$A:$B, 2, 0) -> 2011 | B46: 요세미티와 나 | C46: 김지현
A47: =VLOOKUP(B47,[1]단편!$A:$B, 2, 0) -> 2012 | B47: 해운대소녀 | C47: 이정홍
A48: =VLOOKUP(B48,[1]단편!$A:$B, 2, 0) -> 2013 | B48: 왜 독립영화 감독들은 DVD를 주지 않는가? | C48: 구교환
A49: =VLOOKUP(B49,[1]단편!$A:$B, 2, 0) -> 2013 | B49: 이름들 | C49: 신이수,최아름
A50: =VLOOKUP(B50,[1]단편!$A:$B, 2, 0) -> 2013 | B50: 콩나물 | C50: 윤가은
A51: =VLOOKUP(B51,[1]단편!$A:$B, 2, 0) -> 2014 | B51: 4학년 보경이 | C51: 이옥섭
A52: =VLOOKUP(B52,[1]단편!$A:$B, 2, 0) -> 2014 | B52: 만일의 세계 | C52: 임대형
A53: =VLOOKUP(B53,[1]단편!$A:$B, 2, 0) -> 2017 | B53: 콘크리트의 불안 | C53: 장윤미
A54: =VLOOKUP(B54,[1]단편!$A:$B, 2, 0) -> 2019 | B54: 입문반 | C54: 김현정
A55: =VLOOKUP(B55,[1]단편!$A:$B, 2, 0) -> 2020 | B55: 실 | C55: 이나연, 조민재
A57: ※ 2024.9.10~30 동안 전문가 40인이 투표에 참여하였고 4인의 선정단이 정리하였습니다.
A58: ※ 1975년~1998년 수상작, 1999년~2023년 상영작 중 한국영화를 대상으로 하였습니다.

Sheet 장편 50
A1: 서울독립영화제 50주년 독립영화 베스트 100선(2024)
A3: * 1975년~1998년 상영작 대상
A4: ** 본 리스트는 상영년도 기준으로 무순위 나열하였습니다. | C4: 발표 : 2024.11.28
A5: 상영년도 | B5: 장편 리스트 | C5: 감독
A6: 2002 | B6: 경계도시 | C6: 홍형숙
A7: 2003 | B7: 송환 | C7: 김동원
A8: 2003 | B8: 그집앞 | C8: 김진아
A9: 2004 | B9: 마이 제너레이션 | C9: 노동석
A10: 2004 | B10: 신성일의 행방불명 | C10: 신재인
A11: 2005 | B11: 얼굴없는 것들 | C11: 김경묵
A12: 2005 | B12: 택시 블루스 | C12: 최하동하
A13: 2006 | B13: 192-399:더불어사는 집 이야기 | C13: 이현정
A14: 2006 | B14: 우리들은 정의파다 | C14: 이혜란
A15: 2006 | B15: 우리 학교 | C15: 김명준
A16: 2006 | B16: 파산의 기술記述 | C16: 이강현
A17: 2007 | B17: 은하해방전선 | C17: 윤성호
... A55: 2022 | B55: 사랑의 고고학 | C55: 이완민
A57: ※ 2024.9.10~30 동안 전문가 40인이 투표에 참여하였고 4인의 선정단이 정리하였습니다.
A58: ※ 1975년~1998년 수상작, 1999년~2023년 상영작 중 한국영화를 대상으로 하였습니다.
